BEGIN:VCALENDAR
VERSION:2.0
PRODID:-//Non au mariage pour tous - ECPv5.9.1//NONSGML v1.0//EN
CALSCALE:GREGORIAN
METHOD:PUBLISH
X-WR-CALNAME:Non au mariage pour tous
X-ORIGINAL-URL:https://mariage-pour-tous-non.ch
X-WR-CALDESC:évènements pour Non au mariage pour tous
BEGIN:VTIMEZONE
TZID:UTC
BEGIN:STANDARD
TZOFFSETFROM:+0000
TZOFFSETTO:+0000
TZNAME:UTC
DTSTART:20200101T000000
END:STANDARD
END:VTIMEZONE
BEGIN:VEVENT
DTSTART;TZID=UTC:20200301T093000
DTEND;TZID=UTC:20210321T163000
DTSTAMP:20210926T150407
CREATED:20181026T140141Z
LAST-MODIFIED:20190218T123844Z
UID:273-1583055000-1616344200@mariage-pour-tous-non.ch
SUMMARY:The Power is in Unity. Join the Volunteer Group Today!
DESCRIPTION:Ut wisi enim ad minim veniam\, quis nostrud exerci tation ul lamcorper suscipit lobortis nisl ut aliquip ex ea commodo con sequat. Duis autem vel eum iriure dolor in hendrerit in vulpu tate velit esse molestie consequat\, vel illum dolore eu feugiat nulla facilisis at vero eros et accumsan et iusto odio dignissim qui blandit praesent luptatum zzril delenit augue.\n\nDolor in hendrerit in vulputate velit esse molestie consequat\, vel illum dolore eu feugiat nulla facilisis at vero eros et accum san et iusto odio dignissim qui blandit praesent luptatum zzril delenit augue duis dolore te feugait nulla facilisi.
URL:https://mariage-pour-tous-non.ch/event/the-power-is-in-unity-join-the-volunteer-group-today/
LOCATION:Partiso Center\, 350 5th Ave\, New York\, United States (US) — New York\, 10118
ORGANIZER;CN="Christine%20Miller":MAILTO:info@example.com
END:VEVENT
END:VCALENDAR